Name | Last modified | Size | Description | |
---|---|---|---|---|
Parent Directory | - | |||
buildbin-out.txt | 08-Jul-2022 00:11 | 3.9K | ||
buildbin-summary.dcf | 08-Jul-2022 00:11 | 502 | ||
buildsrc-out.txt | 08-Jul-2022 00:11 | 889 | ||
buildsrc-summary.dcf | 08-Jul-2022 00:11 | 458 | ||
install-out.txt | 12-Jul-2022 00:06 | 3.4K | ||
install-summary.dcf | 12-Jul-2022 00:06 | 290 | ||