Name | Last modified | Size | Description | |
---|---|---|---|---|
Parent Directory | - | |||
install-summary.dcf | 13-Apr-2023 00:05 | 271 | ||
install-out.txt | 13-Apr-2023 00:05 | 968 | ||
checksrc-summary.dcf | 13-Apr-2023 00:05 | 453 | ||
checksrc-out.txt | 13-Apr-2023 00:05 | 3.0K | ||
buildsrc-summary.dcf | 13-Apr-2023 00:05 | 458 | ||
buildsrc-out.txt | 13-Apr-2023 00:05 | 848 | ||
buildbin-summary.dcf | 13-Apr-2023 00:05 | 524 | ||
buildbin-out.txt | 13-Apr-2023 00:05 | 1.1K | ||