Name | Last modified | Size | Description | |
---|---|---|---|---|
Parent Directory | - | |||
install-summary.dcf | 13-Apr-2023 00:06 | 269 | ||
buildsrc-summary.dcf | 13-Apr-2023 00:06 | 427 | ||
checksrc-summary.dcf | 13-Apr-2023 00:06 | 444 | ||
buildbin-summary.dcf | 13-Apr-2023 00:06 | 530 | ||
buildsrc-out.txt | 13-Apr-2023 00:06 | 886 | ||
install-out.txt | 13-Apr-2023 00:06 | 2.7K | ||
buildbin-out.txt | 13-Apr-2023 00:06 | 3.9K | ||
checksrc-out.txt | 13-Apr-2023 00:06 | 4.0K | ||