Index of /checkResults/3.16/bioc-LATEST/DEComplexDisease/raw-results/kjohnson
Name
Last modified
Size
Description
Parent Directory
-
buildsrc-out.txt
08-Jul-2022 00:11
965
buildsrc-summary.dcf
08-Jul-2022 00:11
360
install-out.txt
12-Jul-2022 00:06
2.3K
install-summary.dcf
12-Jul-2022 00:06
288