Index of /checkResults/3.16/bioc-LATEST/DAMEfinder/raw-results/kjohnson
Name
Last modified
Size
Description
Parent Directory
-
install-summary.dcf
12-Jul-2022 00:06
276
buildsrc-summary.dcf
08-Jul-2022 00:10
347
install-out.txt
12-Jul-2022 00:06
733
buildsrc-out.txt
08-Jul-2022 00:10
936