![]() | Name | Last modified | Size | Description |
---|---|---|---|---|
![]() | Parent Directory | - | ||
![]() | install-summary.dcf | 13-Apr-2023 00:06 | 283 | |
![]() | install-out.txt | 13-Apr-2023 00:06 | 1.0K | |
![]() | checksrc-summary.dcf | 13-Apr-2023 00:06 | 478 | |
![]() | checksrc-out.txt | 13-Apr-2023 00:06 | 4.9K | |
![]() | buildsrc-summary.dcf | 13-Apr-2023 00:06 | 448 | |
![]() | buildsrc-out.txt | 13-Apr-2023 00:06 | 1.0K | |
![]() | buildbin-summary.dcf | 13-Apr-2023 00:06 | 572 | |
![]() | buildbin-out.txt | 13-Apr-2023 00:06 | 1.2K | |