Name | Last modified | Size | Description | |
---|---|---|---|---|
Parent Directory | - | |||
checksrc-out.txt | 13-Apr-2023 00:05 | 8.2K | ||
buildbin-out.txt | 13-Apr-2023 00:05 | 2.0K | ||
install-out.txt | 13-Apr-2023 00:05 | 1.8K | ||
buildsrc-out.txt | 13-Apr-2023 00:05 | 945 | ||
buildbin-summary.dcf | 13-Apr-2023 00:05 | 530 | ||
checksrc-summary.dcf | 13-Apr-2023 00:05 | 463 | ||
buildsrc-summary.dcf | 13-Apr-2023 00:05 | 462 | ||
install-summary.dcf | 13-Apr-2023 00:05 | 273 | ||