Name | Last modified | Size | Description | |
---|---|---|---|---|
Parent Directory | - | |||
buildsrc-out.txt | 13-Apr-2023 00:05 | 910 | ||
buildsrc-summary.dcf | 13-Apr-2023 00:05 | 424 | ||
checksrc-out.txt | 13-Apr-2023 00:05 | 7.6K | ||
checksrc-summary.dcf | 13-Apr-2023 00:05 | 430 | ||
install-out.txt | 13-Apr-2023 00:05 | 1.7K | ||
install-summary.dcf | 13-Apr-2023 00:05 | 264 | ||