Index of /checkResults/3.16/bioc-LATEST/ChIPpeakAnno/raw-results/kjohnson
Name
Last modified
Size
Description
Parent Directory
-
buildsrc-out.txt
08-Jul-2022 00:10
1.0K
buildsrc-summary.dcf
08-Jul-2022 00:10
352
install-out.txt
12-Jul-2022 00:06
771
install-summary.dcf
12-Jul-2022 00:06
281