Index of /checkResults/3.16/bioc-LATEST/ChIPexoQual/raw-results/kjohnson
Name
Last modified
Size
Description
Parent Directory
-
buildsrc-out.txt
08-Jul-2022 00:10
913
buildsrc-summary.dcf
08-Jul-2022 00:10
350
install-out.txt
12-Jul-2022 00:06
708
install-summary.dcf
12-Jul-2022 00:06
279