Index of /checkResults/3.16/bioc-LATEST/CellaRepertorium/raw-results/kjohnson
Name
Last modified
Size
Description
Parent Directory
-
install-summary.dcf
12-Jul-2022 00:06
286
install-out.txt
12-Jul-2022 00:06
3.9K
buildsrc-summary.dcf
08-Jul-2022 00:10
361
buildsrc-out.txt
08-Jul-2022 00:10
1.5K