Name | Last modified | Size | Description | |
---|---|---|---|---|
Parent Directory | - | |||
checksrc-out.txt | 13-Apr-2023 00:06 | 4.9K | ||
buildbin-out.txt | 13-Apr-2023 00:06 | 2.7K | ||
install-out.txt | 13-Apr-2023 00:06 | 1.9K | ||
buildsrc-out.txt | 13-Apr-2023 00:06 | 909 | ||
buildbin-summary.dcf | 13-Apr-2023 00:06 | 530 | ||
checksrc-summary.dcf | 13-Apr-2023 00:06 | 444 | ||
buildsrc-summary.dcf | 13-Apr-2023 00:06 | 425 | ||
install-summary.dcf | 13-Apr-2023 00:06 | 269 | ||