![]() | Name | Last modified | Size | Description |
---|---|---|---|---|
![]() | Parent Directory | - | ||
![]() | buildsrc-out.txt | 13-Apr-2023 00:05 | 1.3K | |
![]() | buildsrc-summary.dcf | 13-Apr-2023 00:05 | 408 | |
![]() | checksrc-out.txt | 13-Apr-2023 00:05 | 4.9K | |
![]() | checksrc-summary.dcf | 13-Apr-2023 00:05 | 402 | |
![]() | install-out.txt | 13-Apr-2023 00:05 | 17K | |
![]() | install-summary.dcf | 13-Apr-2023 00:05 | 253 | |