![]() | Name | Last modified | Size | Description |
---|---|---|---|---|
![]() | Parent Directory | - | ||
![]() | install-summary.dcf | 13-Apr-2023 00:06 | 263 | |
![]() | buildsrc-summary.dcf | 13-Apr-2023 00:06 | 418 | |
![]() | checksrc-summary.dcf | 13-Apr-2023 00:06 | 432 | |
![]() | buildbin-summary.dcf | 13-Apr-2023 00:06 | 512 | |
![]() | buildsrc-out.txt | 13-Apr-2023 00:06 | 1.4K | |
![]() | checksrc-out.txt | 13-Apr-2023 00:06 | 4.8K | |
![]() | install-out.txt | 13-Apr-2023 00:06 | 20K | |
![]() | buildbin-out.txt | 13-Apr-2023 00:06 | 21K | |