Name | Last modified | Size | Description | |
---|---|---|---|---|
Parent Directory | - | |||
buildbin-out.txt | 08-Jul-2022 00:10 | 2.4K | ||
buildbin-summary.dcf | 08-Jul-2022 00:10 | 432 | ||
buildsrc-out.txt | 08-Jul-2022 00:10 | 896 | ||
buildsrc-summary.dcf | 08-Jul-2022 00:10 | 416 | ||
install-out.txt | 12-Jul-2022 00:06 | 2.0K | ||
install-summary.dcf | 12-Jul-2022 00:06 | 263 | ||