Name | Last modified | Size | Description | |
---|---|---|---|---|
Parent Directory | - | |||
buildbin-out.txt | 08-Jul-2022 00:10 | 3.2K | ||
install-out.txt | 12-Jul-2022 00:06 | 2.7K | ||
buildsrc-out.txt | 12-Jul-2022 00:06 | 815 | ||
buildbin-summary.dcf | 08-Jul-2022 00:10 | 518 | ||
buildsrc-summary.dcf | 12-Jul-2022 00:06 | 468 | ||
install-summary.dcf | 12-Jul-2022 00:06 | 296 | ||