Index of /checkResults/3.16/bioc-LATEST/BubbleTree/raw-results/kjohnson
Name
Last modified
Size
Description
Parent Directory
-
install-summary.dcf
12-Jul-2022 00:06
277
buildsrc-summary.dcf
12-Jul-2022 00:06
348
install-out.txt
12-Jul-2022 00:06
705
buildsrc-out.txt
12-Jul-2022 00:06
909