Index of /checkResults/3.16/bioc-LATEST/BloodGen3Module/raw-results
Name
Last modified
Size
Description
Parent Directory
-
info.dcf
13-Apr-2023 00:06
287
kjohnson/
12-Jul-2022 00:06
-
lconway/
13-Apr-2023 00:06
-
nebbiolo2/
13-Apr-2023 00:04
-
palomino4/
13-Apr-2023 00:05
-