Name | Last modified | Size | Description | |
---|---|---|---|---|
Parent Directory | - | |||
buildbin-out.txt | 13-Apr-2023 00:05 | 1.1K | ||
buildbin-summary.dcf | 13-Apr-2023 00:05 | 509 | ||
buildsrc-out.txt | 13-Apr-2023 00:05 | 894 | ||
buildsrc-summary.dcf | 13-Apr-2023 00:05 | 449 | ||
checksrc-out.txt | 13-Apr-2023 00:05 | 12K | ||
checksrc-summary.dcf | 13-Apr-2023 00:05 | 443 | ||
install-out.txt | 13-Apr-2023 00:05 | 968 | ||
install-summary.dcf | 13-Apr-2023 00:05 | 266 | ||