Index of /checkResults/3.16/bioc-LATEST/BindingSiteFinder/raw-results/kjohnson
Name
Last modified
Size
Description
Parent Directory
-
install-summary.dcf
12-Jul-2022 00:06
290
install-out.txt
12-Jul-2022 00:06
727
buildsrc-summary.dcf
12-Jul-2022 00:06
361
buildsrc-out.txt
12-Jul-2022 00:06
944