Index of /checkResults/3.16/bioc-LATEST/BiGGR/raw-results
Name
Last modified
Size
Description
Parent Directory
-
info.dcf
13-Apr-2023 00:05
278
nebbiolo2/
13-Apr-2023 00:04
-
palomino4/
13-Apr-2023 00:05
-