Name | Last modified | Size | Description | |
---|---|---|---|---|
Parent Directory | - | |||
buildbin-out.txt | 07-Jul-2022 00:10 | 1.3K | ||
buildbin-summary.dcf | 07-Jul-2022 00:10 | 524 | ||
install-out.txt | 12-Jul-2022 00:06 | 1.2K | ||
install-summary.dcf | 12-Jul-2022 00:06 | 267 | ||
buildsrc-out.txt | 12-Jul-2022 00:06 | 650 | ||
buildsrc-summary.dcf | 12-Jul-2022 00:06 | 348 | ||