Index of /checkResults/3.16/bioc-LATEST/BayesSpace/raw-results/kjohnson
Name
Last modified
Size
Description
Parent Directory
-
buildsrc-out.txt
12-Jul-2022 00:06
857
buildsrc-summary.dcf
12-Jul-2022 00:06
435
install-out.txt
12-Jul-2022 00:06
2.8K
install-summary.dcf
12-Jul-2022 00:06
275