Name | Last modified | Size | Description | |
---|---|---|---|---|
Parent Directory | - | |||
install-summary.dcf | 13-Apr-2023 00:05 | 269 | ||
buildsrc-summary.dcf | 13-Apr-2023 00:05 | 427 | ||
checksrc-summary.dcf | 13-Apr-2023 00:05 | 444 | ||
buildbin-summary.dcf | 13-Apr-2023 00:05 | 530 | ||
buildsrc-out.txt | 13-Apr-2023 00:05 | 879 | ||
install-out.txt | 13-Apr-2023 00:05 | 1.0K | ||
buildbin-out.txt | 13-Apr-2023 00:05 | 1.2K | ||
checksrc-out.txt | 13-Apr-2023 00:05 | 3.8K | ||