Index of /checkResults/3.16/bioc-LATEST/BatchQC/raw-results/kjohnson
Name
Last modified
Size
Description
Parent Directory
-
install-out.txt
12-Jul-2022 00:06
1.0K
buildsrc-out.txt
12-Jul-2022 00:06
879
buildsrc-summary.dcf
12-Jul-2022 00:06
427
install-summary.dcf
12-Jul-2022 00:06
270