Name | Last modified | Size | Description | |
---|---|---|---|---|
Parent Directory | - | |||
install-out.txt | 13-Apr-2023 00:04 | 3.5K | ||
install-summary.dcf | 13-Apr-2023 00:04 | 261 | ||
buildsrc-out.txt | 13-Apr-2023 00:04 | 840 | ||
buildsrc-summary.dcf | 13-Apr-2023 00:04 | 421 | ||
checksrc-out.txt | 13-Apr-2023 00:04 | 4.1K | ||
checksrc-summary.dcf | 13-Apr-2023 00:04 | 418 | ||