Name | Last modified | Size | Description | |
---|---|---|---|---|
Parent Directory | - | |||
install-summary.dcf | 13-Apr-2023 00:04 | 259 | ||
install-out.txt | 13-Apr-2023 00:04 | 2.0K | ||
checksrc-summary.dcf | 13-Apr-2023 00:04 | 414 | ||
checksrc-out.txt | 13-Apr-2023 00:04 | 3.9K | ||
buildsrc-summary.dcf | 13-Apr-2023 00:04 | 417 | ||
buildsrc-out.txt | 13-Apr-2023 00:04 | 836 | ||