Name | Last modified | Size | Description | |
---|---|---|---|---|
Parent Directory | - | |||
buildsrc-out.txt | 13-Apr-2023 00:04 | 820 | ||
buildsrc-summary.dcf | 13-Apr-2023 00:04 | 405 | ||
checksrc-out.txt | 13-Apr-2023 00:04 | 4.9K | ||
checksrc-summary.dcf | 13-Apr-2023 00:04 | 397 | ||
install-out.txt | 13-Apr-2023 00:04 | 9.0K | ||
install-summary.dcf | 13-Apr-2023 00:04 | 251 | ||