Index of /checkResults/3.16/bioc-LATEST/BEAT/raw-results/kjohnson
Name
Last modified
Size
Description
Parent Directory
-
install-summary.dcf
12-Jul-2022 00:06
265
buildsrc-summary.dcf
12-Jul-2022 00:06
336
install-out.txt
12-Jul-2022 00:06
685
buildsrc-out.txt
12-Jul-2022 00:06
876