Name | Last modified | Size | Description | |
---|---|---|---|---|
Parent Directory | - | |||
buildbin-out.txt | 13-Apr-2023 00:05 | 5.1K | ||
buildbin-summary.dcf | 13-Apr-2023 00:05 | 530 | ||
buildsrc-out.txt | 13-Apr-2023 00:05 | 941 | ||
buildsrc-summary.dcf | 13-Apr-2023 00:05 | 428 | ||
checksrc-out.txt | 13-Apr-2023 00:05 | 4.2K | ||
checksrc-summary.dcf | 13-Apr-2023 00:05 | 444 | ||
install-out.txt | 13-Apr-2023 00:05 | 3.8K | ||
install-summary.dcf | 13-Apr-2023 00:05 | 269 | ||