Index of /checkResults/3.16/bioc-LATEST/BANDITS/raw-results/kjohnson
Name
Last modified
Size
Description
Parent Directory
-
buildsrc-out.txt
12-Jul-2022 00:06
941
buildsrc-summary.dcf
12-Jul-2022 00:06
428
install-out.txt
12-Jul-2022 00:06
3.7K
install-summary.dcf
12-Jul-2022 00:06
270