Name | Last modified | Size | Description | |
---|---|---|---|---|
Parent Directory | - | |||
checksrc-out.txt | 13-Apr-2023 00:05 | 4.7K | ||
buildbin-out.txt | 13-Apr-2023 00:05 | 3.0K | ||
install-out.txt | 13-Apr-2023 00:05 | 2.2K | ||
buildsrc-out.txt | 13-Apr-2023 00:05 | 893 | ||
buildbin-summary.dcf | 13-Apr-2023 00:05 | 505 | ||
checksrc-summary.dcf | 13-Apr-2023 00:05 | 433 | ||
buildsrc-summary.dcf | 13-Apr-2023 00:05 | 414 | ||
install-summary.dcf | 13-Apr-2023 00:05 | 261 | ||