Name | Last modified | Size | Description | |
---|---|---|---|---|
Parent Directory | - | |||
buildbin-out.txt | 08-Jul-2022 00:10 | 2.4K | ||
buildbin-summary.dcf | 08-Jul-2022 00:10 | 428 | ||
buildsrc-out.txt | 12-Jul-2022 00:06 | 893 | ||
buildsrc-summary.dcf | 12-Jul-2022 00:06 | 414 | ||
install-out.txt | 12-Jul-2022 00:06 | 2.1K | ||
install-summary.dcf | 12-Jul-2022 00:06 | 260 | ||