Name | Last modified | Size | Description | |
---|---|---|---|---|
Parent Directory | - | |||
checksrc-out.txt | 13-Apr-2023 00:04 | 4.1K | ||
install-out.txt | 13-Apr-2023 00:04 | 970 | ||
buildsrc-out.txt | 13-Apr-2023 00:04 | 829 | ||
checksrc-summary.dcf | 13-Apr-2023 00:04 | 440 | ||
buildsrc-summary.dcf | 13-Apr-2023 00:04 | 433 | ||
install-summary.dcf | 13-Apr-2023 00:04 | 270 | ||