Index of /checkResults/3.16/bioc-LATEST/AnnotationHub/raw-results/kjohnson
Name
Last modified
Size
Description
Parent Directory
-
buildsrc-summary.dcf
12-Jul-2022 00:06
354
buildsrc-out.txt
12-Jul-2022 00:06
1.6K
install-summary.dcf
12-Jul-2022 00:06
280
install-out.txt
12-Jul-2022 00:06
1.0K