Name | Last modified | Size | Description | |
---|---|---|---|---|
Parent Directory | - | |||
checksrc-out.txt | 21-Mar-2023 00:05 | 5.5K | ||
buildbin-out.txt | 21-Mar-2023 00:05 | 3.8K | ||
buildsrc-out.txt | 13-Apr-2023 00:05 | 967 | ||
install-out.txt | 13-Apr-2023 00:05 | 634 | ||
buildbin-summary.dcf | 21-Mar-2023 00:05 | 533 | ||
checksrc-summary.dcf | 21-Mar-2023 00:05 | 465 | ||
buildsrc-summary.dcf | 13-Apr-2023 00:05 | 376 | ||
install-summary.dcf | 13-Apr-2023 00:05 | 276 | ||