Name | Last modified | Size | Description | |
---|---|---|---|---|
Parent Directory | - | |||
checksrc-out.txt | 21-Mar-2023 00:04 | 4.8K | ||
buildsrc-out.txt | 13-Apr-2023 00:04 | 911 | ||
install-out.txt | 13-Apr-2023 00:04 | 651 | ||
checksrc-summary.dcf | 21-Mar-2023 00:04 | 427 | ||
buildsrc-summary.dcf | 13-Apr-2023 00:04 | 338 | ||
install-summary.dcf | 13-Apr-2023 00:04 | 267 | ||