Index of /checkResults/3.16/bioc-LATEST/AneuFinder/raw-results/kjohnson
Name
Last modified
Size
Description
Parent Directory
-
buildsrc-out.txt
12-Jul-2022 00:06
10K
buildsrc-summary.dcf
12-Jul-2022 00:06
349
install-out.txt
12-Jul-2022 00:06
2.7K
install-summary.dcf
12-Jul-2022 00:06
276