Name | Last modified | Size | Description | |
---|---|---|---|---|
Parent Directory | - | |||
buildsrc-out.txt | 13-Apr-2023 00:04 | 842 | ||
buildsrc-summary.dcf | 13-Apr-2023 00:04 | 445 | ||
checksrc-out.txt | 13-Apr-2023 00:04 | 3.5K | ||
checksrc-summary.dcf | 13-Apr-2023 00:04 | 450 | ||
install-out.txt | 13-Apr-2023 00:04 | 1.2K | ||
install-summary.dcf | 13-Apr-2023 00:04 | 277 | ||