Index of /checkResults/3.16/bioc-LATEST/AWFisher/raw-results/kjohnson
Name
Last modified
Size
Description
Parent Directory
-
buildsrc-out.txt
12-Jul-2022 00:06
913
buildsrc-summary.dcf
12-Jul-2022 00:06
430
install-summary.dcf
12-Jul-2022 00:06
270
install-out.txt
12-Jul-2022 00:06
1.7K