Index of /checkResults/3.16/bioc-LATEST/ATACseqQC/raw-results/kjohnson
Name
Last modified
Size
Description
Parent Directory
-
buildsrc-out.txt
12-Jul-2022 00:06
961
buildsrc-summary.dcf
12-Jul-2022 00:06
346
install-out.txt
12-Jul-2022 00:06
760
install-summary.dcf
12-Jul-2022 00:06
275