Index of /checkResults/3.16/bioc-LATEST/ASSIGN/raw-results/kjohnson
Name
Last modified
Size
Description
Parent Directory
-
buildsrc-out.txt
12-Jul-2022 00:06
812
buildsrc-summary.dcf
12-Jul-2022 00:06
423
install-out.txt
12-Jul-2022 00:06
1.0K
install-summary.dcf
12-Jul-2022 00:06
266