Name | Last modified | Size | Description | |
---|---|---|---|---|
Parent Directory | - | |||
checksrc-out.txt | 13-Apr-2023 00:04 | 4.8K | ||
install-out.txt | 13-Apr-2023 00:04 | 955 | ||
buildsrc-out.txt | 13-Apr-2023 00:04 | 810 | ||
checksrc-summary.dcf | 13-Apr-2023 00:04 | 424 | ||
buildsrc-summary.dcf | 13-Apr-2023 00:04 | 420 | ||
install-summary.dcf | 13-Apr-2023 00:04 | 261 | ||