Index of /checkResults/3.15/workflows-LATEST/methylationArrayAnalysis/raw-results
Name
Last modified
Size
Description
Parent Directory
-
info.dcf
19-Oct-2022 03:00
319
merida1/
19-Oct-2022 03:00
-
nebbiolo1/
19-Oct-2022 03:00
-