Name | Last modified | Size | Description | |
---|---|---|---|---|
Parent Directory | - | |||
buildsrc-out.txt | 17-Feb-2022 22:36 | 896 | ||
buildsrc-summary.dcf | 17-Feb-2022 22:36 | 440 | ||
checksrc-out.txt | 17-Feb-2022 22:36 | 3.3K | ||
checksrc-summary.dcf | 17-Feb-2022 22:36 | 468 | ||
install-out.txt | 17-Feb-2022 22:36 | 931 | ||
install-summary.dcf | 17-Feb-2022 22:36 | 277 | ||