Index of /checkResults/3.15/data-experiment-LATEST/tuberculosis/raw-results/nebbiolo1

[ICO]NameLast modifiedSizeDescription

[DIR]Parent Directory  -  
[TXT]buildsrc-out.txt17-Aug-2022 03:50 888  
[   ]buildsrc-summary.dcf17-Aug-2022 03:50 430  
[TXT]checksrc-out.txt17-Aug-2022 03:50 2.9K 
[   ]checksrc-summary.dcf17-Aug-2022 03:50 442  
[TXT]install-out.txt17-Aug-2022 03:50 1.0K 
[   ]install-summary.dcf17-Aug-2022 03:50 268