Name | Last modified | Size | Description | |
---|---|---|---|---|
Parent Directory | - | |||
buildsrc-out.txt | 19-Oct-2022 03:50 | 766 | ||
buildsrc-summary.dcf | 19-Oct-2022 03:50 | 440 | ||
checksrc-out.txt | 19-Oct-2022 03:50 | 2.8K | ||
checksrc-summary.dcf | 19-Oct-2022 03:50 | 461 | ||
install-out.txt | 19-Oct-2022 03:50 | 932 | ||
install-summary.dcf | 19-Oct-2022 03:50 | 275 | ||