Name | Last modified | Size | Description | |
---|---|---|---|---|
Parent Directory | - | |||
buildsrc-out.txt | 19-Oct-2022 03:50 | 1.1K | ||
buildsrc-summary.dcf | 19-Oct-2022 03:50 | 451 | ||
checksrc-out.txt | 19-Oct-2022 03:50 | 4.1K | ||
checksrc-summary.dcf | 19-Oct-2022 03:50 | 474 | ||
install-out.txt | 19-Oct-2022 03:50 | 964 | ||
install-summary.dcf | 19-Oct-2022 03:50 | 281 | ||