Name | Last modified | Size | Description | |
---|---|---|---|---|
Parent Directory | - | |||
install-summary.dcf | 19-Oct-2022 03:50 | 276 | ||
install-out.txt | 19-Oct-2022 03:50 | 950 | ||
checksrc-summary.dcf | 19-Oct-2022 03:50 | 459 | ||
checksrc-out.txt | 19-Oct-2022 03:50 | 2.8K | ||
buildsrc-summary.dcf | 19-Oct-2022 03:50 | 443 | ||
buildsrc-out.txt | 19-Oct-2022 03:50 | 770 | ||