Name | Last modified | Size | Description | |
---|---|---|---|---|
Parent Directory | - | |||
checksrc-summary.dcf | 19-Oct-2022 03:50 | 426 | ||
checksrc-out.txt | 19-Oct-2022 03:50 | 4.7K | ||
buildsrc-summary.dcf | 19-Oct-2022 03:50 | 414 | ||
buildsrc-out.txt | 19-Oct-2022 03:50 | 793 | ||
install-summary.dcf | 19-Oct-2022 03:50 | 257 | ||
install-out.txt | 19-Oct-2022 03:50 | 952 | ||